BEGIN:VCALENDAR
VERSION:2.0
PRODID:-//Plone.org//NONSGML plone.app.event//EN
X-WR-TIMEZONE:America/Sao_Paulo
BEGIN:VEVENT
SUMMARY:Eu faço IC\, e você? em [ Auditório B106 do CAD3]
DTSTART;TZID=America/Sao_Paulo;VALUE=DATE-TIME:20250520T160000
DTEND;TZID=America/Sao_Paulo;VALUE=DATE-TIME:20250520T173000
DTSTAMP;VALUE=DATE-TIME:20260419T091108Z
UID:c20788690bea4e898733f8336215c99b@150.164.76.86:8080
CREATED;VALUE=DATE-TIME:20250327T125445Z
DESCRIPTION:<p>Será realizada uma feira de ciência com apresentação de
  projetos de iniciação científica. Estamos em processo de verificação
  da possibilidade de colocarmos pequenos stands. Ao final\, na arena\, ser
 ão entregues premiações aos alunos que mais se destacaram durante o eve
 nto.</p>
LAST-MODIFIED;VALUE=DATE-TIME:20250514T143808Z
URL:http://150.164.76.86:8080/cac/agenda/12318100973052412401
END:VEVENT
BEGIN:VTIMEZONE
TZID:America/Sao_Paulo
X-LIC-LOCATION:America/Sao_Paulo
BEGIN:STANDARD
DTSTART;VALUE=DATE-TIME:20250215T230000
TZNAME:BRT
TZOFFSETFROM:-0200
TZOFFSETTO:-0300
END:STANDARD
END:VTIMEZONE
END:VCALENDAR
