BEGIN:VCALENDAR
VERSION:2.0
PRODID:-//Plone.org//NONSGML plone.app.event//EN
X-WR-TIMEZONE:America/Sao_Paulo
BEGIN:VEVENT
SUMMARY:Inauguração da Cátedra Magda Soares em [ Auditorio da Reitoria 
 Auditorio Nobre do CAD 1]
DTSTART;TZID=America/Sao_Paulo;VALUE=DATE-TIME:20240529T090000
DTEND;TZID=America/Sao_Paulo;VALUE=DATE-TIME:20240529T120000
DTSTAMP;VALUE=DATE-TIME:20260420T030528Z
UID:aa8b6904404c432e88e8f001dbf3bc10@150.164.76.86:8080
CREATED;VALUE=DATE-TIME:20240321T213905Z
DESCRIPTION:<p>Precisaremos dos serviços de audiovisual e filmagem. Event
 o de lançamento da cátedra Magda Soares com o catedrático português An
 tónio Nóvoa. Evento do Gabinete da Reitora\, Prograd e IEAT.</p>
LAST-MODIFIED;VALUE=DATE-TIME:20240502T141158Z
URL:http://150.164.76.86:8080/cac/agenda/12314874121920951715
END:VEVENT
BEGIN:VTIMEZONE
TZID:America/Sao_Paulo
X-LIC-LOCATION:America/Sao_Paulo
BEGIN:STANDARD
DTSTART;VALUE=DATE-TIME:20240217T230000
TZNAME:BRT
TZOFFSETFROM:-0200
TZOFFSETTO:-0300
END:STANDARD
END:VTIMEZONE
END:VCALENDAR
