BEGIN:VCALENDAR
VERSION:2.0
PRODID:-//Plone.org//NONSGML plone.app.event//EN
X-WR-TIMEZONE:America/Sao_Paulo
BEGIN:VEVENT
SUMMARY:Reunião Sala de Sessões  em [ Outros espacos]
DTSTART;TZID=America/Sao_Paulo;VALUE=DATE-TIME:20220609T140000
DTEND;TZID=America/Sao_Paulo;VALUE=DATE-TIME:20220609T160000
DTSTAMP;VALUE=DATE-TIME:20260422T064748Z
UID:c9bb492a40e545d488f9d6b30d2853cf@150.164.76.86:8080
CREATED;VALUE=DATE-TIME:20220608T124933Z
DESCRIPTION:<p>Reunião Semana do Conhecimento</p>
LAST-MODIFIED;VALUE=DATE-TIME:20220613T112058Z
URL:http://150.164.76.86:8080/cac/agenda/12262922016928845241
END:VEVENT
BEGIN:VTIMEZONE
TZID:America/Sao_Paulo
X-LIC-LOCATION:America/Sao_Paulo
BEGIN:STANDARD
DTSTART;VALUE=DATE-TIME:20220219T230000
TZNAME:BRT
TZOFFSETFROM:-0200
TZOFFSETTO:-0300
END:STANDARD
END:VTIMEZONE
END:VCALENDAR
