BEGIN:VCALENDAR
VERSION:2.0
PRODID:-//Plone.org//NONSGML plone.app.event//EN
X-WR-TIMEZONE:America/Sao_Paulo
BEGIN:VEVENT
SUMMARY:DrillinBH - Evento de Rap - Recepção a Estudantes Ingressantes 2
 025/1 em [ Arena da praça de serviços]
DTSTART;TZID=America/Sao_Paulo;VALUE=DATE-TIME:20250311T190000
DTEND;TZID=America/Sao_Paulo;VALUE=DATE-TIME:20250311T220000
DTSTAMP;VALUE=DATE-TIME:20260419T120008Z
UID:5041243f57594a059d8ed62af765f0c1@150.164.76.86:8080
CREATED;VALUE=DATE-TIME:20250226T130321Z
DESCRIPTION:Apresentação cultural de Rap e Hip Hop proposta por estudant
 es do ICB\, aprovada pela PRAE no projeto de Recepção a Estudantes 2025/
 1
LAST-MODIFIED;VALUE=DATE-TIME:20250227T204000Z
URL:http://150.164.76.86:8080/cac/agenda/12254683330612643739
END:VEVENT
BEGIN:VTIMEZONE
TZID:America/Sao_Paulo
X-LIC-LOCATION:America/Sao_Paulo
BEGIN:STANDARD
DTSTART;VALUE=DATE-TIME:20250215T230000
TZNAME:BRT
TZOFFSETFROM:-0200
TZOFFSETTO:-0300
END:STANDARD
END:VTIMEZONE
END:VCALENDAR
