BEGIN:VCALENDAR
VERSION:2.0
PRODID:-//Plone.org//NONSGML plone.app.event//EN
X-WR-TIMEZONE:America/Sao_Paulo
BEGIN:VEVENT
SUMMARY:Observatório AUGM em [ Outros espacos]
DTSTART;TZID=America/Sao_Paulo;VALUE=DATE-TIME:20221010T140000
DTEND;TZID=America/Sao_Paulo;VALUE=DATE-TIME:20221010T170000
DTSTAMP;VALUE=DATE-TIME:20260421T235106Z
UID:213ae266f5c0456ebffb66912ce9bde0@150.164.76.86:8080
CREATED;VALUE=DATE-TIME:20220930T190404Z
DESCRIPTION:Evento 'Observatório da AUGM' contará com a presença da pro
 f. Sandra Almeida\, prof. Aziz Saliba e convidados relacionado à AUGM. A 
 reunião será realizada no dia 10/10\, de 14h as 17h na Sala de Sessões 
 da Reitoria.\nSerá necessário apoio da CAC em relação ao som e projeç
 ão. A mesa será composta por 5 participantes.
LAST-MODIFIED;VALUE=DATE-TIME:20221010T163531Z
URL:http://150.164.76.86:8080/cac/agenda/12246637626965166469
END:VEVENT
BEGIN:VTIMEZONE
TZID:America/Sao_Paulo
X-LIC-LOCATION:America/Sao_Paulo
BEGIN:STANDARD
DTSTART;VALUE=DATE-TIME:20220219T230000
TZNAME:BRT
TZOFFSETFROM:-0200
TZOFFSETTO:-0300
END:STANDARD
END:VTIMEZONE
END:VCALENDAR
