BEGIN:VCALENDAR
VERSION:2.0
PRODID:-//Plone.org//NONSGML plone.app.event//EN
X-WR-TIMEZONE:America/Sao_Paulo
BEGIN:VEVENT
SUMMARY:Reflexo da pandemia na saúde mental dos trabalhadores da Fhemig e
 m [ Outros espacos]
DTSTART;TZID=America/Sao_Paulo;VALUE=DATE-TIME:20220921T140000
DTEND;TZID=America/Sao_Paulo;VALUE=DATE-TIME:20220921T160000
DTSTAMP;VALUE=DATE-TIME:20260422T012555Z
UID:91a3838af4944dc08d5ea660f8d031a8@150.164.76.86:8080
CREATED;VALUE=DATE-TIME:20220901T135202Z
DESCRIPTION:A UFMG e a FHEMIG possuem importante parceria em estágios na 
 área de saúde e firmaram compromisso para realização de 4 seminários 
 no ano de 2022. Essa será a terceira edição.\n\nMaiores informações e
 m breve.
LAST-MODIFIED;VALUE=DATE-TIME:20220908T171849Z
URL:http://150.164.76.86:8080/cac/agenda/12231302509507113401
END:VEVENT
BEGIN:VTIMEZONE
TZID:America/Sao_Paulo
X-LIC-LOCATION:America/Sao_Paulo
BEGIN:STANDARD
DTSTART;VALUE=DATE-TIME:20220219T230000
TZNAME:BRT
TZOFFSETFROM:-0200
TZOFFSETTO:-0300
END:STANDARD
END:VTIMEZONE
END:VCALENDAR
