BEGIN:VCALENDAR
VERSION:2.0
PRODID:-//Plone.org//NONSGML plone.app.event//EN
X-WR-TIMEZONE:America/Sao_Paulo
BEGIN:VEVENT
SUMMARY:Outorga prof Emérito EBA em [ Auditorio da Reitoria]
DTSTART;TZID=America/Sao_Paulo;VALUE=DATE-TIME:20230428T180000
DTEND;TZID=America/Sao_Paulo;VALUE=DATE-TIME:20230428T210000
DTSTAMP;VALUE=DATE-TIME:20260421T145825Z
UID:f09253ed2dbf455492296f17dc45e285@150.164.76.86:8080
CREATED;VALUE=DATE-TIME:20230315T134149Z
DESCRIPTION:<p>Cássia solicitou a ajuda do Sandro\, técnico da EBA. </p
 >
LAST-MODIFIED;VALUE=DATE-TIME:20230315T134159Z
URL:http://150.164.76.86:8080/cac/agenda/1222680185388835757
END:VEVENT
BEGIN:VTIMEZONE
TZID:America/Sao_Paulo
X-LIC-LOCATION:America/Sao_Paulo
BEGIN:STANDARD
DTSTART;VALUE=DATE-TIME:20230225T230000
TZNAME:BRT
TZOFFSETFROM:-0200
TZOFFSETTO:-0300
END:STANDARD
END:VTIMEZONE
END:VCALENDAR
