BEGIN:VCALENDAR
VERSION:2.0
PRODID:-//Plone.org//NONSGML plone.app.event//EN
X-WR-TIMEZONE:America/Sao_Paulo
BEGIN:VEVENT
SUMMARY:Curso BCOP 2022 em [ Auditório B101 do CAD 3]
DTSTART;TZID=America/Sao_Paulo;VALUE=DATE-TIME:20220822T080000
DTEND;TZID=America/Sao_Paulo;VALUE=DATE-TIME:20220825T180000
DTSTAMP;VALUE=DATE-TIME:20260422T031749Z
UID:0d61205b1155436e9d7d599ae37f620c@150.164.76.86:8080
CREATED;VALUE=DATE-TIME:20220719T124232Z
DESCRIPTION:<p>Curso para 50 a 70 pessoas Acesso a internet (estável\, pa
 ra todos os alunos\, banda baixa\, principalmente acesso via ssh a console
 ) Mesas que deem para apoiar os notebooks Tomadas para carregar os noteboo
 ks projetor área para coffee break Horário de 8hs às 18hs. De preferên
 cia CAD3 (se possível)</p>
LAST-MODIFIED;VALUE=DATE-TIME:20220812T180142Z
URL:http://150.164.76.86:8080/cac/agenda/1220791478786099812
END:VEVENT
BEGIN:VTIMEZONE
TZID:America/Sao_Paulo
X-LIC-LOCATION:America/Sao_Paulo
BEGIN:STANDARD
DTSTART;VALUE=DATE-TIME:20220219T230000
TZNAME:BRT
TZOFFSETFROM:-0200
TZOFFSETTO:-0300
END:STANDARD
END:VTIMEZONE
END:VCALENDAR
