BEGIN:VCALENDAR
VERSION:2.0
PRODID:-//Plone.org//NONSGML plone.app.event//EN
X-WR-TIMEZONE:America/Sao_Paulo
BEGIN:VEVENT
SUMMARY:BANCAS DE HETEROIDENTIFICAÇÃO em [ Auditório B101/102 do CAD 3 
 Auditório B106 do CAD3 - s/ ar condic Auditório B107 do CAD3]
DTSTART;TZID=America/Sao_Paulo;VALUE=DATE-TIME:20240422T070000
DTEND;TZID=America/Sao_Paulo;VALUE=DATE-TIME:20240424T180000
DTSTAMP;VALUE=DATE-TIME:20260420T044642Z
UID:e707c8f356cd4aee8b87c4bb481c7576@150.164.76.86:8080
CREATED;VALUE=DATE-TIME:20231218T172811Z
DESCRIPTION:<p><span>Bancas de Heteroidentificação para reserva de vagas
  racial nos processos seletivos dos cursos ofertados pela UFMG</span></p>
LAST-MODIFIED;VALUE=DATE-TIME:20231218T173602Z
URL:http://150.164.76.86:8080/cac/agenda/12196074491199920508
END:VEVENT
BEGIN:VTIMEZONE
TZID:America/Sao_Paulo
X-LIC-LOCATION:America/Sao_Paulo
BEGIN:STANDARD
DTSTART;VALUE=DATE-TIME:20240217T230000
TZNAME:BRT
TZOFFSETFROM:-0200
TZOFFSETTO:-0300
END:STANDARD
END:VTIMEZONE
END:VCALENDAR
