BEGIN:VCALENDAR
VERSION:2.0
PRODID:-//Plone.org//NONSGML plone.app.event//EN
X-WR-TIMEZONE:America/Sao_Paulo
BEGIN:VEVENT
SUMMARY:Conferência Futuro\, essa palavra: meio ambiente em [ Auditorio d
 a Reitoria Auditorio Nobre do CAD 1]
DTSTART;TZID=America/Sao_Paulo;VALUE=DATE-TIME:20220627T140000
DTEND;TZID=America/Sao_Paulo;VALUE=DATE-TIME:20220627T160000
DTSTAMP;VALUE=DATE-TIME:20260422T063438Z
UID:e580c08dd292409a8410af9b5c811c88@150.164.76.86:8080
CREATED;VALUE=DATE-TIME:20220603T200112Z
DESCRIPTION:<p>Primeira conferência do ciclo de conferências dos 95 anos
  da Universidade que contará com a participação de Ailton Krenak e Davi
  Kopenawa\, para debate sobre meio ambiente. A conferência será transmit
 ida no canal do youtube da UFMG\, ao mesmo tempo que ocorre no auditório 
 da reitoria.</p>
LAST-MODIFIED;VALUE=DATE-TIME:20220624T204416Z
URL:http://150.164.76.86:8080/cac/agenda/12148237984103146811
END:VEVENT
BEGIN:VTIMEZONE
TZID:America/Sao_Paulo
X-LIC-LOCATION:America/Sao_Paulo
BEGIN:STANDARD
DTSTART;VALUE=DATE-TIME:20220219T230000
TZNAME:BRT
TZOFFSETFROM:-0200
TZOFFSETTO:-0300
END:STANDARD
END:VTIMEZONE
END:VCALENDAR
