BEGIN:VCALENDAR
VERSION:2.0
PRODID:-//Plone.org//NONSGML plone.app.event//EN
X-WR-TIMEZONE:America/Sao_Paulo
BEGIN:VEVENT
SUMMARY:XXI BMIC- Brazilian Meeting on Inorganic Chemistry em [ Auditorio 
 Nobre do CAD 1 Outros espacos Auditorio 1A do CAD 1 Auditorio 2A do CAD 1]
DTSTART;TZID=America/Sao_Paulo;VALUE=DATE-TIME:20240909T080000
DTEND;TZID=America/Sao_Paulo;VALUE=DATE-TIME:20240916T210000
DTSTAMP;VALUE=DATE-TIME:20260419T205745Z
UID:bc0f7b9d7ec340ca99d9c29af986a653@150.164.76.86:8080
CREATED;VALUE=DATE-TIME:20231113T203902Z
DESCRIPTION:<p>O Encontro Brasileiro de Química Inorgânica (BMIC) é uma
  conferência científica bianual. Considerado um dos eventos mais importa
 ntes da Sociedade Brasileira de Química. Este evento ocorre de forma bian
 ual na forma de revezamento entre RJ\, SP\, MG\, Sul e Nordeste. O número
  de participantes tem crescido constantemente\, incluindo químicos e pesq
 uisadores de áreas correlatas de todos os continentes. Desde 2006\, o BMI
 C é realizado paralelamente ao Encontro Brasileiro de Terras Raras (TR)\,
  reunindo pesquisadores e estudantes das áreas de química inorgânica\, 
 química de materiais\, química de terras raras e física. Além disso\, 
 desde 2018\, nos juntamos à comunidade de química computacional dedicada
  à simulação de sistemas e processos bioinorgânicos incluídos no Work
 shop de Química Bioinorgânica Teórica. O evento acontecerá de 12 a 15 
 de setembro de 2024 e apresentará um fórum de discussão sobre os últim
 os desenvolvimentos\, incluindo as seguintes áreas temáticas: • Quími
 ca inorgânica biológica • Organometálico • Terras raras • Grupo p
 rincipal • Química supramolecular • Fotoquímica • Eletroquímica I
 norgânica • Química de Materiais • Catálise O objetivo do evento é
  promover um amplo debate sobre o desenvolvimento das ciências e das téc
 nicas relacionada a química inorgânica no país e no mundo. Pretende-se 
 estabelecer uma integração entre estudantes de graduação e pós-gradua
 ção\, e pesquisadores exponenciais da área de química inorgânica. O B
 MIC visa também promover a troca de experiências entre pesquisadores da 
 américa latina e também de países da Europa\, Ásia e América do Norte
 .</p>
LAST-MODIFIED;VALUE=DATE-TIME:20240611T190712Z
URL:http://150.164.76.86:8080/cac/agenda/12146791050931369187
END:VEVENT
BEGIN:VTIMEZONE
TZID:America/Sao_Paulo
X-LIC-LOCATION:America/Sao_Paulo
BEGIN:STANDARD
DTSTART;VALUE=DATE-TIME:20240217T230000
TZNAME:BRT
TZOFFSETFROM:-0200
TZOFFSETTO:-0300
END:STANDARD
END:VTIMEZONE
END:VCALENDAR
