BEGIN:VCALENDAR
VERSION:2.0
PRODID:-//Plone.org//NONSGML plone.app.event//EN
X-WR-TIMEZONE:America/Sao_Paulo
BEGIN:VEVENT
SUMMARY:FAME em [ Auditorio A104 do Cad 2]
DTSTART;TZID=America/Sao_Paulo;VALUE=DATE-TIME:20231124T071800
DTEND;TZID=America/Sao_Paulo;VALUE=DATE-TIME:20231125T071800
DTSTAMP;VALUE=DATE-TIME:20260420T143430Z
UID:f843f623011d4cf78f4da75d66ee9051@150.164.76.86:8080
CREATED;VALUE=DATE-TIME:20230804T145451Z
DESCRIPTION:<p>Evento que atende a pesquisadores internos e externos a UFM
 G\, organizado pelo prof. Wagner Meira\, alocado no Departamento de Ciênc
 ia da Computação. O professor está ciente que não haverá atendimento 
 técnico audiovisual pela CAC e que\, no sábado\, o CAD possui pessoal ad
 ministrativo da CAC\, até o meio dia\, em razão das aulas.</p>
LAST-MODIFIED;VALUE=DATE-TIME:20231109T203143Z
URL:http://150.164.76.86:8080/cac/agenda/12143848569234532688
END:VEVENT
BEGIN:VTIMEZONE
TZID:America/Sao_Paulo
X-LIC-LOCATION:America/Sao_Paulo
BEGIN:DAYLIGHT
DTSTART;VALUE=DATE-TIME:20231015T010000
TZNAME:BRST
TZOFFSETFROM:-0300
TZOFFSETTO:-0200
END:DAYLIGHT
END:VTIMEZONE
END:VCALENDAR
