BEGIN:VCALENDAR
VERSION:2.0
PRODID:-//Plone.org//NONSGML plone.app.event//EN
X-WR-TIMEZONE:America/Sao_Paulo
BEGIN:VEVENT
SUMMARY:Os Desafios da Democracia Brasileira: Marielle\, Milícia e o 8 de
  janeiro em [ Outros espacos]
DTSTART;TZID=America/Sao_Paulo;VALUE=DATE-TIME:20240408T180000
DTEND;TZID=America/Sao_Paulo;VALUE=DATE-TIME:20240408T200000
DTSTAMP;VALUE=DATE-TIME:20260420T063445Z
UID:d9902735ff8a4ad088580c5fda7115ee@150.164.76.86:8080
CREATED;VALUE=DATE-TIME:20240403T175743Z
DESCRIPTION:<p>Os Desafios da Democracia Brasileira: Marielle\, Milícia e
  o 8 de janeiro</p>
LAST-MODIFIED;VALUE=DATE-TIME:20240403T180012Z
URL:http://150.164.76.86:8080/cac/agenda/12138964225115946542
END:VEVENT
BEGIN:VTIMEZONE
TZID:America/Sao_Paulo
X-LIC-LOCATION:America/Sao_Paulo
BEGIN:STANDARD
DTSTART;VALUE=DATE-TIME:20240217T230000
TZNAME:BRT
TZOFFSETFROM:-0200
TZOFFSETTO:-0300
END:STANDARD
END:VTIMEZONE
END:VCALENDAR
