BEGIN:VCALENDAR
VERSION:2.0
PRODID:-//Plone.org//NONSGML plone.app.event//EN
X-WR-TIMEZONE:America/Sao_Paulo
BEGIN:VEVENT
SUMMARY:Fundep I Reunião de Trabalho I Compliance em [ Auditorio Nobre do
  CAD 1]
DTSTART;TZID=America/Sao_Paulo;VALUE=DATE-TIME:20240626T080000
DTEND;TZID=America/Sao_Paulo;VALUE=DATE-TIME:20240627T120000
DTSTAMP;VALUE=DATE-TIME:20260420T012547Z
UID:1380f63bc7ab4b10ab9e1ef2464b9d1a@150.164.76.86:8080
CREATED;VALUE=DATE-TIME:20240503T131002Z
DESCRIPTION:<p>Reunião de Trabalho\, para apresentações de área e aç
 ões de compliance.</p>
LAST-MODIFIED;VALUE=DATE-TIME:20240603T132024Z
URL:http://150.164.76.86:8080/cac/agenda/12126987591830654577
END:VEVENT
BEGIN:VTIMEZONE
TZID:America/Sao_Paulo
X-LIC-LOCATION:America/Sao_Paulo
BEGIN:STANDARD
DTSTART;VALUE=DATE-TIME:20240217T230000
TZNAME:BRT
TZOFFSETFROM:-0200
TZOFFSETTO:-0300
END:STANDARD
END:VTIMEZONE
END:VCALENDAR
