BEGIN:VCALENDAR
VERSION:2.0
PRODID:-//Plone.org//NONSGML plone.app.event//EN
X-WR-TIMEZONE:America/Sao_Paulo
BEGIN:VEVENT
SUMMARY:Treinamento Resolução de Desenvolvimento dos Servidores Técnico
 s Administrativos em [ Auditorio da Reitoria]
DTSTART;TZID=America/Sao_Paulo;VALUE=DATE-TIME:20230824T090000
DTEND;TZID=America/Sao_Paulo;VALUE=DATE-TIME:20230824T130000
DTSTAMP;VALUE=DATE-TIME:20260421T091313Z
UID:82ebf4574a084b7f9409d3d93f4b2da5@150.164.76.86:8080
CREATED;VALUE=DATE-TIME:20230706T194738Z
DESCRIPTION:<p>Treinamento para aplicação da <span>Resolução</span><s
 pan> de Desenvolvimento dos Servidores Técnicos Administrativos.</span><
 /p>\n<p><span>Evento presencial com transmissão canal youtube da CAC.</sp
 an></p>
LAST-MODIFIED;VALUE=DATE-TIME:20230706T194802Z
URL:http://150.164.76.86:8080/cac/agenda/12108781689910544880
END:VEVENT
BEGIN:VTIMEZONE
TZID:America/Sao_Paulo
X-LIC-LOCATION:America/Sao_Paulo
BEGIN:STANDARD
DTSTART;VALUE=DATE-TIME:20230225T230000
TZNAME:BRT
TZOFFSETFROM:-0200
TZOFFSETTO:-0300
END:STANDARD
END:VTIMEZONE
END:VCALENDAR
