BEGIN:VCALENDAR
VERSION:2.0
PRODID:-//Plone.org//NONSGML plone.app.event//EN
X-WR-TIMEZONE:America/Sao_Paulo
BEGIN:VEVENT
SUMMARY:COLÓQUIO INTERNACIONAL DE HISTÓRIA DA ARTE  - A grande decoraç
 ão barroca em [ Auditório B101/102 do CAD 3]
DTSTART;TZID=America/Sao_Paulo;VALUE=DATE-TIME:20231127T080000
DTEND;TZID=America/Sao_Paulo;VALUE=DATE-TIME:20231130T200000
DTSTAMP;VALUE=DATE-TIME:20260420T130744Z
UID:ec5e2b3caae749e0874c9223e484bbb5@150.164.76.86:8080
CREATED;VALUE=DATE-TIME:20230811T135203Z
DESCRIPTION:<p>Este encontro tem como ponto fulcral reconhecer a relação
  entre os estudos sobre a História da Arte\, a História da Ciência e su
 as componentes históricas culturais. Uma pesquisa de fórum internacional
  com os mais prestigiados pesquisadores do Brasil\, de Portugal\, da Itál
 ia\, da Espanha e da Colômbia. Estas investigações apontam para um prob
 lema relativo à história da arte do tempo do barroco\, mas também sobre
  o estudo e o conhecimento histórico-cultural desde o Renascimento em con
 stante paralelo com questões pertinentes à tratadística à cenografia e
  à perspectiva. O principal objetivo deste evento é ter a oportunidade d
 e discutir cientificamente as questões sobre arte\, ciência e técnica\,
  não só entre o público e os estudiosos brasileiros\, mas também com e
 specialistas internacionais que apresentarão suas respectivas comunicaç
 ões. Nossa proposta é estudar com ampla abordagem as manifestações art
 ísticas ocorridas no Brasil durante o tempo colonial. Nosso foco abarcar
 á as investigações sobre a pintura e a arquitetura no Brasil Antigo: o 
 período entre os séculos XVIII e XIX. O ponto basilar desta discussão 
 é abordar os principais aspectos relacionados com a construção do espa
 ço figurativo e suas relações com a perspectiva\, com a cenografia e co
 m a tratadística coeva. Ou seja\, estabelecer uma abordagem própria para
  a interpretação do espaço pictórico desenvolvido durante tal época. 
 Assim\, a cenografia\, a quadratura (a pintura de falsa arquitetura) e a p
 intura (retabular ou de cavalete) passam a dialogar não só por meio de u
 m ponto de vista formal\, mas\, em especial\, sob o ponto de vista histór
 ico-cultural. Assim\, é fulcral iniciar um estudo mais ousado que aborde 
 essencialmente o mundo europeu\, mas\, contemple igualmente\, a difusão d
 este espectro científico na América e no Oriente. O diálogo científico
  terá aqui o seu paralelo com o debate cultural. Com efeito\, ciência\, 
 técnica e arte\, embora se apresentem como domínios distintos\, têm sua
 s histórias e seus processos de elaboração imbricados. Para a efetiva c
 ompreensão da arte torna-se necessário\, sob diversos aspectos\, a compr
 eensão da técnica e da ciência a ela relacionadas. OBS: ESTOU CIENTE QU
 E NÃO TEREI UMA EQUIPE DE ÁUDIO VISUAL PARA ESTE EVENTO E NECESSITO DA I
 NTERNET. SÓ PRECISO DE UM AUDITÓRIO</p>
LAST-MODIFIED;VALUE=DATE-TIME:20231122T145427Z
URL:http://150.164.76.86:8080/cac/agenda/12106645867463997987
END:VEVENT
BEGIN:VTIMEZONE
TZID:America/Sao_Paulo
X-LIC-LOCATION:America/Sao_Paulo
BEGIN:DAYLIGHT
DTSTART;VALUE=DATE-TIME:20231015T010000
TZNAME:BRST
TZOFFSETFROM:-0300
TZOFFSETTO:-0200
END:DAYLIGHT
END:VTIMEZONE
END:VCALENDAR
