BEGIN:VCALENDAR
VERSION:2.0
PRODID:-//Plone.org//NONSGML plone.app.event//EN
X-WR-TIMEZONE:America/Sao_Paulo
BEGIN:VEVENT
SUMMARY:Aplicação do ENEM Impresso 2022 em [ Auditorio A104 do Cad 2 Aud
 itorio A102 do Cad 2 Auditorio Nobre do CAD 1 Auditorio 1A do CAD 1 Audito
 rio 2A do CAD 1 Auditório B302 do CAD 3 Auditório B101/102 do CAD 3 Audi
 tório B301 do CAD 3 Auditório B106 do CAD3 Auditório B107 do CAD3]
DTSTART;TZID=America/Sao_Paulo;VALUE=DATE-TIME:20221112T010000
DTEND;TZID=America/Sao_Paulo;VALUE=DATE-TIME:20221113T230000
DTSTAMP;VALUE=DATE-TIME:20260421T221843Z
UID:f53f8eb7f5dd45cea9ad700a129b86c2@150.164.76.86:8080
CREATED;VALUE=DATE-TIME:20220901T185751Z
DESCRIPTION:<p>Enem 2022</p>
LAST-MODIFIED;VALUE=DATE-TIME:20230111T201114Z
URL:http://150.164.76.86:8080/cac/agenda/12099926552290409771
END:VEVENT
BEGIN:VTIMEZONE
TZID:America/Sao_Paulo
X-LIC-LOCATION:America/Sao_Paulo
BEGIN:DAYLIGHT
DTSTART;VALUE=DATE-TIME:20221016T010000
TZNAME:BRST
TZOFFSETFROM:-0300
TZOFFSETTO:-0200
END:DAYLIGHT
END:VTIMEZONE
END:VCALENDAR
