BEGIN:VCALENDAR
VERSION:2.0
PRODID:-//Plone.org//NONSGML plone.app.event//EN
X-WR-TIMEZONE:America/Sao_Paulo
BEGIN:VEVENT
SUMMARY:Reunião de Referências de Recursos Humanos da UFMG em [ Auditori
 o A104 do Cad 2]
DTSTART;TZID=America/Sao_Paulo;VALUE=DATE-TIME:20230831T083000
DTEND;TZID=America/Sao_Paulo;VALUE=DATE-TIME:20230831T123000
DTSTAMP;VALUE=DATE-TIME:20260421T091152Z
UID:420b2bf4e4234c3daeef9cba1b96f2b6@150.164.76.86:8080
CREATED;VALUE=DATE-TIME:20230711T144645Z
DESCRIPTION:<p>Liberação do Data Show\, e solicitamos por gentileza ver 
 possibilidade de transmissão online para atender aos servidores do ICA-Mo
 ntes Claros/MG. Início do evento às 9horas\, Intervalo para café às 10
 h30 e encerramento às 12h</p>
LAST-MODIFIED;VALUE=DATE-TIME:20230814T150056Z
URL:http://150.164.76.86:8080/cac/agenda/12096157467400101554
END:VEVENT
BEGIN:VTIMEZONE
TZID:America/Sao_Paulo
X-LIC-LOCATION:America/Sao_Paulo
BEGIN:STANDARD
DTSTART;VALUE=DATE-TIME:20230225T230000
TZNAME:BRT
TZOFFSETFROM:-0200
TZOFFSETTO:-0300
END:STANDARD
END:VTIMEZONE
END:VCALENDAR
