BEGIN:VCALENDAR
VERSION:2.0
PRODID:-//Plone.org//NONSGML plone.app.event//EN
X-WR-TIMEZONE:America/Sao_Paulo
BEGIN:VEVENT
SUMMARY:Quarta Doze e Trinta em [ Arena da praça de serviços]
DTSTART;TZID=America/Sao_Paulo;VALUE=DATE-TIME:20231213T080000
DTEND;TZID=America/Sao_Paulo;VALUE=DATE-TIME:20231213T150000
DTSTAMP;VALUE=DATE-TIME:20260420T114818Z
UID:ca5d9549267b4496bc6f933ec2f5cdb9@150.164.76.86:8080
CREATED;VALUE=DATE-TIME:20231117T183930Z
DESCRIPTION:CANTATA DE NATAL executada por vários corais.\n\nSom c/ Micro
 fones e retornos.
LAST-MODIFIED;VALUE=DATE-TIME:20231117T200021Z
URL:http://150.164.76.86:8080/cac/agenda/12067958051348371448
END:VEVENT
BEGIN:VTIMEZONE
TZID:America/Sao_Paulo
X-LIC-LOCATION:America/Sao_Paulo
BEGIN:DAYLIGHT
DTSTART;VALUE=DATE-TIME:20231015T010000
TZNAME:BRST
TZOFFSETFROM:-0300
TZOFFSETTO:-0200
END:DAYLIGHT
END:VTIMEZONE
END:VCALENDAR
