BEGIN:VCALENDAR
VERSION:2.0
PRODID:-//Plone.org//NONSGML plone.app.event//EN
X-WR-TIMEZONE:America/Sao_Paulo
BEGIN:VEVENT
SUMMARY:Palestra: Espaços Comuns de formação de professores  - Prof. An
 tónio Nóvoa Catedrático do IEAT em [ Auditorio da Reitoria]
DTSTART;TZID=America/Sao_Paulo;VALUE=DATE-TIME:20250129T100000
DTEND;TZID=America/Sao_Paulo;VALUE=DATE-TIME:20250129T120000
DTSTAMP;VALUE=DATE-TIME:20260419T151221Z
UID:ea6cc92564cc4fc787c59fa1470914f5@150.164.76.86:8080
CREATED;VALUE=DATE-TIME:20250113T123531Z
DESCRIPTION:<p>Palestra: Espaços Comuns de formação de professores\, mi
 nistrada pelo professor António Nóvoa. Esta atividade está ligada a Cá
 tedra Fundep IEAT Magda Soares.</p>
LAST-MODIFIED;VALUE=DATE-TIME:20250123T130417Z
URL:http://150.164.76.86:8080/cac/agenda/12066802632186160675
END:VEVENT
BEGIN:VTIMEZONE
TZID:America/Sao_Paulo
X-LIC-LOCATION:America/Sao_Paulo
BEGIN:DAYLIGHT
DTSTART;VALUE=DATE-TIME:20241020T010000
TZNAME:BRST
TZOFFSETFROM:-0300
TZOFFSETTO:-0200
END:DAYLIGHT
END:VTIMEZONE
END:VCALENDAR
