BEGIN:VCALENDAR
VERSION:2.0
PRODID:-//Plone.org//NONSGML plone.app.event//EN
X-WR-TIMEZONE:America/Sao_Paulo
BEGIN:VEVENT
SUMMARY:VI Curso de Engenharia de Máquinas Biológicas - Atividade de Ext
 ensão em [ Outros espacos]
DTSTART;TZID=America/Sao_Paulo;VALUE=DATE-TIME:20220808T100000
DTEND;TZID=America/Sao_Paulo;VALUE=DATE-TIME:20220812T180000
DTSTAMP;VALUE=DATE-TIME:20260422T012451Z
UID:ba5073137bd14fd3a6af5ca6418b966d@150.164.76.86:8080
CREATED;VALUE=DATE-TIME:20220808T125257Z
DESCRIPTION:<p>Técnicas de manipulação genética. O público-alvo consi
 ste em estudantes de ensino técnico\, de graduação e de pós-graduaçã
 o de diversas áreas do conhecimento e profissionais interessados em biolo
 gia sintética\, biotecnologia e empreendedorismo. É desejável conhecime
 nto na área de Biologia.<br /><br /><br /></p>
LAST-MODIFIED;VALUE=DATE-TIME:20220808T125752Z
URL:http://150.164.76.86:8080/cac/agenda/12062390686687990965
END:VEVENT
BEGIN:VTIMEZONE
TZID:America/Sao_Paulo
X-LIC-LOCATION:America/Sao_Paulo
BEGIN:STANDARD
DTSTART;VALUE=DATE-TIME:20220219T230000
TZNAME:BRT
TZOFFSETFROM:-0200
TZOFFSETTO:-0300
END:STANDARD
END:VTIMEZONE
END:VCALENDAR
