BEGIN:VCALENDAR
VERSION:2.0
PRODID:-//Plone.org//NONSGML plone.app.event//EN
X-WR-TIMEZONE:America/Sao_Paulo
BEGIN:VEVENT
SUMMARY:Exame de Certificação de Proficiência em Língua Portuguesa par
 a Estrangeiros (CELPE-BRAS) em [ Auditorio A102 do Cad 2]
DTSTART;TZID=America/Sao_Paulo;VALUE=DATE-TIME:20241022T080000
DTEND;TZID=America/Sao_Paulo;VALUE=DATE-TIME:20241022T130000
DTSTAMP;VALUE=DATE-TIME:20260419T193231Z
UID:371cb6a1936241b4b87ef5fec70e8f63@150.164.76.86:8080
CREATED;VALUE=DATE-TIME:20240627T194025Z
DESCRIPTION:<p><span>Aplicação do exame de Certificação de Proficiênc
 ia em Língua Portuguesa para Estrangeiros (CELPE-BRAS) no estado de Minas
  Gerais.</span></p>\n<p><span>Responsável pela aplicação das provas CEN
 EX/FALE</span></p>
LAST-MODIFIED;VALUE=DATE-TIME:20240627T194338Z
URL:http://150.164.76.86:8080/cac/agenda/12059580750444706047
END:VEVENT
BEGIN:VTIMEZONE
TZID:America/Sao_Paulo
X-LIC-LOCATION:America/Sao_Paulo
BEGIN:DAYLIGHT
DTSTART;VALUE=DATE-TIME:20241020T010000
TZNAME:BRST
TZOFFSETFROM:-0300
TZOFFSETTO:-0200
END:DAYLIGHT
END:VTIMEZONE
END:VCALENDAR
