BEGIN:VCALENDAR
VERSION:2.0
PRODID:-//Plone.org//NONSGML plone.app.event//EN
X-WR-TIMEZONE:America/Sao_Paulo
BEGIN:VEVENT
SUMMARY:Jornada Empreendora Nanotech Hub UFMG - Merck em [ Auditório B106
  do CAD3 - s/ ar condicionado]
DTSTART;TZID=America/Sao_Paulo;VALUE=DATE-TIME:20250529T080000
DTEND;TZID=America/Sao_Paulo;VALUE=DATE-TIME:20250529T170000
DTSTAMP;VALUE=DATE-TIME:20260419T091427Z
UID:11519f2daadd4a3a96ebc4c789411558@150.164.76.86:8080
CREATED;VALUE=DATE-TIME:20250206T125909Z
DESCRIPTION:Evento para cinquenta pessoas - com notebook no pulpito a ser 
 levado pela CTIT - precisaremos de microfone para perguntas - de preferenc
 ia pedestal - a reitora nao estará no evento\n\nTeremos coffe break na ca
 ntina para 50 pessoas
LAST-MODIFIED;VALUE=DATE-TIME:20250228T134032Z
URL:http://150.164.76.86:8080/cac/agenda/12051352797519817523
END:VEVENT
BEGIN:VTIMEZONE
TZID:America/Sao_Paulo
X-LIC-LOCATION:America/Sao_Paulo
BEGIN:STANDARD
DTSTART;VALUE=DATE-TIME:20250215T230000
TZNAME:BRT
TZOFFSETFROM:-0200
TZOFFSETTO:-0300
END:STANDARD
END:VTIMEZONE
END:VCALENDAR
