BEGIN:VCALENDAR
VERSION:2.0
PRODID:-//Plone.org//NONSGML plone.app.event//EN
X-WR-TIMEZONE:America/Sao_Paulo
BEGIN:VEVENT
SUMMARY:ASSEMBLEIA DO SINDIFES em [ Auditorio A102 do Cad 2]
DTSTART;TZID=America/Sao_Paulo;VALUE=DATE-TIME:20240522T080000
DTEND;TZID=America/Sao_Paulo;VALUE=DATE-TIME:20240522T170000
DTSTAMP;VALUE=DATE-TIME:20260420T032050Z
UID:4498f6be09fc4819835f804d5e70e68c@150.164.76.86:8080
CREATED;VALUE=DATE-TIME:20240503T142707Z
DESCRIPTION:<p>assembleia</p>
LAST-MODIFIED;VALUE=DATE-TIME:20240506T145331Z
URL:http://150.164.76.86:8080/cac/agenda/12046973929300191639
END:VEVENT
BEGIN:VTIMEZONE
TZID:America/Sao_Paulo
X-LIC-LOCATION:America/Sao_Paulo
BEGIN:STANDARD
DTSTART;VALUE=DATE-TIME:20240217T230000
TZNAME:BRT
TZOFFSETFROM:-0200
TZOFFSETTO:-0300
END:STANDARD
END:VTIMEZONE
END:VCALENDAR
