BEGIN:VCALENDAR
VERSION:2.0
PRODID:-//Plone.org//NONSGML plone.app.event//EN
X-WR-TIMEZONE:America/Sao_Paulo
BEGIN:VEVENT
SUMMARY:Desmontagem Stands Blitz da Saúde em [ Entorno da Praca de Servic
 os]
DTSTART;TZID=America/Sao_Paulo;VALUE=DATE-TIME:20241127T070000
DTEND;TZID=America/Sao_Paulo;VALUE=DATE-TIME:20241127T170000
DTSTAMP;VALUE=DATE-TIME:20260419T193108Z
UID:5b78a793eb9e485ebd86a029f3c9350d@150.164.76.86:8080
CREATED;VALUE=DATE-TIME:20240807T183154Z
DESCRIPTION:<p>desmontagem</p>
LAST-MODIFIED;VALUE=DATE-TIME:20241119T191857Z
URL:http://150.164.76.86:8080/cac/agenda/12038018663856211190
END:VEVENT
BEGIN:VTIMEZONE
TZID:America/Sao_Paulo
X-LIC-LOCATION:America/Sao_Paulo
BEGIN:DAYLIGHT
DTSTART;VALUE=DATE-TIME:20241020T010000
TZNAME:BRST
TZOFFSETFROM:-0300
TZOFFSETTO:-0200
END:DAYLIGHT
END:VTIMEZONE
END:VCALENDAR
