BEGIN:VCALENDAR
VERSION:2.0
PRODID:-//Plone.org//NONSGML plone.app.event//EN
X-WR-TIMEZONE:America/Sao_Paulo
BEGIN:VEVENT
SUMMARY:CAPACIDADE EXCEDIDA em [ Auditorio Nobre do CAD 1 Auditorio 1A do 
 CAD 1 Auditorio 2A do CAD 1 Auditório B302 do CAD 3 Auditório B101/102 d
 o CAD 3 Auditório B301 do CAD 3]
DTSTART;TZID=America/Sao_Paulo;VALUE=DATE-TIME:20200701T130000
DTEND;TZID=America/Sao_Paulo;VALUE=DATE-TIME:20200701T230000
DTSTAMP;VALUE=DATE-TIME:20260424T210630Z
UID:601e361665b84b4499c645e1b1425f2d@150.164.76.86:8080
CREATED;VALUE=DATE-TIME:20200206T113421Z
DESCRIPTION:<p>.</p>
LAST-MODIFIED;VALUE=DATE-TIME:20230111T201040Z
URL:http://150.164.76.86:8080/cac/agenda/12008356344612463170
END:VEVENT
BEGIN:VTIMEZONE
TZID:America/Sao_Paulo
X-LIC-LOCATION:America/Sao_Paulo
BEGIN:STANDARD
DTSTART;VALUE=DATE-TIME:20200215T230000
TZNAME:BRT
TZOFFSETFROM:-0200
TZOFFSETTO:-0300
END:STANDARD
END:VTIMEZONE
END:VCALENDAR
