BEGIN:VCALENDAR
VERSION:2.0
PRODID:-//Plone.org//NONSGML plone.app.event//EN
X-WR-TIMEZONE:America/Sao_Paulo
BEGIN:VEVENT
SUMMARY:Encontro do CongeCOM em [ Auditorio A104 do Cad 2]
DTSTART;TZID=America/Sao_Paulo;VALUE=DATE-TIME:20221013T080000
DTEND;TZID=America/Sao_Paulo;VALUE=DATE-TIME:20221014T180000
DTSTAMP;VALUE=DATE-TIME:20260421T234829Z
UID:6b11d9cca89a43268b13839fa3e28951@150.164.76.86:8080
CREATED;VALUE=DATE-TIME:20220914T194906Z
DESCRIPTION:<p>Congresso Andifes\, com representantes das diretorias de co
 municação das Universidades Federais da Regional Sudeste. 13/10 - palest
 ras e mesas redondas 14/10 - apresentação de trabalhos Previsão de Coff
 eebreak</p>
LAST-MODIFIED;VALUE=DATE-TIME:20220923T184458Z
URL:http://150.164.76.86:8080/cac/agenda/11992646148757954151
END:VEVENT
BEGIN:VTIMEZONE
TZID:America/Sao_Paulo
X-LIC-LOCATION:America/Sao_Paulo
BEGIN:STANDARD
DTSTART;VALUE=DATE-TIME:20220219T230000
TZNAME:BRT
TZOFFSETFROM:-0200
TZOFFSETTO:-0300
END:STANDARD
END:VTIMEZONE
END:VCALENDAR
