BEGIN:VCALENDAR
VERSION:2.0
PRODID:-//Plone.org//NONSGML plone.app.event//EN
X-WR-TIMEZONE:America/Sao_Paulo
BEGIN:VEVENT
SUMMARY:Lançamento da nova marca | Fundep em [ Auditorio Nobre do CAD 1]
DTSTART;TZID=America/Sao_Paulo;VALUE=DATE-TIME:20220324T080000
DTEND;TZID=America/Sao_Paulo;VALUE=DATE-TIME:20220325T200000
DTSTAMP;VALUE=DATE-TIME:20260422T111800Z
UID:bfe03267aa1040859b3a519d0b1c95f3@150.164.76.86:8080
CREATED;VALUE=DATE-TIME:20220216T192903Z
DESCRIPTION:O evento de lançamento da nova marca da Fundação de Desenvo
 lvimento da Pesquisa (Fundep) terá uma programação com falas institucio
 nais\, palestras\, exibição de vídeos e intervenção artística.\n\nO 
 público será composto por todos os colaboradores da Fundep e terá a par
 ticipação da presidência da Fundação e da Reitora da UFMG.
LAST-MODIFIED;VALUE=DATE-TIME:20220221T134734Z
URL:http://150.164.76.86:8080/cac/agenda/11988836107342960958
END:VEVENT
BEGIN:VTIMEZONE
TZID:America/Sao_Paulo
X-LIC-LOCATION:America/Sao_Paulo
BEGIN:STANDARD
DTSTART;VALUE=DATE-TIME:20220219T230000
TZNAME:BRT
TZOFFSETFROM:-0200
TZOFFSETTO:-0300
END:STANDARD
END:VTIMEZONE
END:VCALENDAR
