BEGIN:VCALENDAR
VERSION:2.0
PRODID:-//Plone.org//NONSGML plone.app.event//EN
X-WR-TIMEZONE:America/Sao_Paulo
BEGIN:VEVENT
SUMMARY:Motirõ - Programa de Desenvolvimento de Negócios de Impacto Soci
 al e Ambiental em [ Auditorio A102 do Cad 2]
DTSTART;TZID=America/Sao_Paulo;VALUE=DATE-TIME:20250127T164500
DTEND;TZID=America/Sao_Paulo;VALUE=DATE-TIME:20250127T182500
DTSTAMP;VALUE=DATE-TIME:20260419T145131Z
UID:19c295f316b846b589c3a20b1742a411@150.164.76.86:8080
CREATED;VALUE=DATE-TIME:20241028T190254Z
DESCRIPTION:<p>Estamos organizando aulas teóricas sobre negócios de impa
 cto para o Projeto de Extensão Motirõ\, a serem realizadas em um dos aud
 itórios solicitados todas as segundas-feiras\, das 16:45 às 18:25\, do d
 ia 04/11 até 27/01 (excluindo as segundas-feiras de 16/12 a 06/01). Neces
 sitamos de um projetor funcionando para as apresentações. Também estamo
 s avaliando a possibilidade de transmitir o evento para que os membros da 
 comunidade acadêmica da UFMG de Montes Claros possam participar\, caso a 
 estrutura permita.</p>
LAST-MODIFIED;VALUE=DATE-TIME:20250107T160115Z
URL:http://150.164.76.86:8080/cac/agenda/1198037424378344802
END:VEVENT
BEGIN:VTIMEZONE
TZID:America/Sao_Paulo
X-LIC-LOCATION:America/Sao_Paulo
BEGIN:DAYLIGHT
DTSTART;VALUE=DATE-TIME:20241020T010000
TZNAME:BRST
TZOFFSETFROM:-0300
TZOFFSETTO:-0200
END:DAYLIGHT
END:VTIMEZONE
END:VCALENDAR
