BEGIN:VCALENDAR
VERSION:2.0
PRODID:-//Plone.org//NONSGML plone.app.event//EN
X-WR-TIMEZONE:America/Sao_Paulo
BEGIN:VEVENT
SUMMARY:Série de Seminários CTVacinas em [ Outros espacos]
DTSTART;TZID=America/Sao_Paulo;VALUE=DATE-TIME:20240319T140000
DTEND;TZID=America/Sao_Paulo;VALUE=DATE-TIME:20240319T150000
DTSTAMP;VALUE=DATE-TIME:20260420T063444Z
UID:4bb78f7671b04b25b0ae1772d99bd0dd@150.164.76.86:8080
CREATED;VALUE=DATE-TIME:20240315T211752Z
DESCRIPTION:Como alinhado com o Harley Mendes\, estamos fazendo um movimen
 to para assumir as transmissões ao vivo relativas ao CTVacinas/BH-TEC. \n
 \nNa terça-feira\, gostaríamos de receber um apoio de um técnico para a
 valiarmos se já temos os equipamentos necessários para fazer uma transmi
 ssão com a qualidade mínima. \n\nO horário da solicitação é fictíci
 o\, conforme orientação do próprio Harley\, que vai avaliar qual é a m
 elhor hora para essa consultoria.
LAST-MODIFIED;VALUE=DATE-TIME:20240318T144549Z
URL:http://150.164.76.86:8080/cac/agenda/11954749420142963519
END:VEVENT
BEGIN:VTIMEZONE
TZID:America/Sao_Paulo
X-LIC-LOCATION:America/Sao_Paulo
BEGIN:STANDARD
DTSTART;VALUE=DATE-TIME:20240217T230000
TZNAME:BRT
TZOFFSETFROM:-0200
TZOFFSETTO:-0300
END:STANDARD
END:VTIMEZONE
END:VCALENDAR
