BEGIN:VCALENDAR
VERSION:2.0
PRODID:-//Plone.org//NONSGML plone.app.event//EN
X-WR-TIMEZONE:America/Sao_Paulo
BEGIN:VEVENT
SUMMARY:Professor Emérito em [ Outros espacos]
DTSTART;TZID=America/Sao_Paulo;VALUE=DATE-TIME:20211220T170000
DTEND;TZID=America/Sao_Paulo;VALUE=DATE-TIME:20211220T190000
DTSTAMP;VALUE=DATE-TIME:20260422T142751Z
UID:dfff31a95b5744bc8e7789a3f66075e9@150.164.76.86:8080
CREATED;VALUE=DATE-TIME:20211129T190437Z
DESCRIPTION:<p>Professor emérito 20/12/2021 17h</p>
LAST-MODIFIED;VALUE=DATE-TIME:20211129T190716Z
URL:http://150.164.76.86:8080/cac/agenda/11933368098911164599
END:VEVENT
BEGIN:VTIMEZONE
TZID:America/Sao_Paulo
X-LIC-LOCATION:America/Sao_Paulo
BEGIN:DAYLIGHT
DTSTART;VALUE=DATE-TIME:20211017T010000
TZNAME:BRST
TZOFFSETFROM:-0300
TZOFFSETTO:-0200
END:DAYLIGHT
END:VTIMEZONE
END:VCALENDAR
