BEGIN:VCALENDAR
VERSION:2.0
PRODID:-//Plone.org//NONSGML plone.app.event//EN
X-WR-TIMEZONE:America/Sao_Paulo
BEGIN:VEVENT
SUMMARY:Realização da Reunião Brasileira de Antropologia na UFMG em [ A
 uditorio da Reitoria Saguao da Reitoria Arena da praça de serviços Entor
 no da Praca de Servicos Auditorio Nobre do CAD 1 Auditorio 1A do CAD 1 Aud
 itorio 2A do CAD 1 Auditório B101/102 do CAD 3 Auditório B106 do CAD3 Au
 ditório B107 do CAD3 Auditório B301 do CAD 3 Auditório B302 do CAD 3 Ou
 tros espacos Auditório B306 do CAD3]
DTSTART;TZID=America/Sao_Paulo;VALUE=DATE-TIME:20240720T070000
DTEND;TZID=America/Sao_Paulo;VALUE=DATE-TIME:20240730T220000
DTSTAMP;VALUE=DATE-TIME:20260419T235127Z
UID:4874747b67414e5fa582d9f959ae08a4@150.164.76.86:8080
CREATED;VALUE=DATE-TIME:20230517T133250Z
DESCRIPTION:<p><span>A Associação Brasileira de Antropologia (ABA) é a 
 mais antiga das associações científicas da área de humanas no país. C
 om quase 70 anos de existência (foi fundada em 1955)\, a associação con
 ta hoje com mais de 2.300 sócios. A Reunião Brasileira de Antropologia (
 RBA) é um dos eventos acadêmico-científicos mais relevantes da área de
  Antropologia\, em particular\, e das Ciências Sociais no Brasil. Suas ed
 ições costumam reunir em torno de 2 mil estudantes\, fora pesquisadores/
 as nacionais e internacionais em uma programação densa e variada. </spa
 n><span>Para se ter ideia\, na última reunião ocorrida </span><span>vir
 tualmente\,</span><span> em novembro de 2022\, foram 2.771 inscritos. Na 
 última reunião presencial\, realizada em 2018\, o encontro acadêmico co
 ntou com 1.515 presentes.</span></p>\n<p><span><span>Em conversa prelimina
 r com a direção da FAFICH\, considerando a necessidade da realização d
 o evento em período fora do calendário de aulas\, ficou estabelecida com
 o data mais oportuna a semana de</span><b> 22 a 26 de julho de 2024.</b><
 span> </span></span></p>
LAST-MODIFIED;VALUE=DATE-TIME:20240716T180020Z
URL:http://150.164.76.86:8080/cac/agenda/11928417926489397760
END:VEVENT
BEGIN:VTIMEZONE
TZID:America/Sao_Paulo
X-LIC-LOCATION:America/Sao_Paulo
BEGIN:STANDARD
DTSTART;VALUE=DATE-TIME:20240217T230000
TZNAME:BRT
TZOFFSETFROM:-0200
TZOFFSETTO:-0300
END:STANDARD
END:VTIMEZONE
END:VCALENDAR
