BEGIN:VCALENDAR
VERSION:2.0
PRODID:-//Plone.org//NONSGML plone.app.event//EN
X-WR-TIMEZONE:America/Sao_Paulo
BEGIN:VEVENT
SUMMARY:Defesa de dissertação em [ Auditorio A102 do Cad 2]
DTSTART;TZID=America/Sao_Paulo;VALUE=DATE-TIME:20250516T080000
DTEND;TZID=America/Sao_Paulo;VALUE=DATE-TIME:20250516T120000
DTSTAMP;VALUE=DATE-TIME:20260419T091303Z
UID:f340cfd45f394c11afe99a1903dc83ce@150.164.76.86:8080
CREATED;VALUE=DATE-TIME:20250327T104419Z
DESCRIPTION:Defesa de dissertação de Lúcio Maxakali.
LAST-MODIFIED;VALUE=DATE-TIME:20250327T143213Z
URL:http://150.164.76.86:8080/cac/agenda/11903531151696798676
END:VEVENT
BEGIN:VTIMEZONE
TZID:America/Sao_Paulo
X-LIC-LOCATION:America/Sao_Paulo
BEGIN:STANDARD
DTSTART;VALUE=DATE-TIME:20250215T230000
TZNAME:BRT
TZOFFSETFROM:-0200
TZOFFSETTO:-0300
END:STANDARD
END:VTIMEZONE
END:VCALENDAR
