BEGIN:VCALENDAR
VERSION:2.0
PRODID:-//Plone.org//NONSGML plone.app.event//EN
X-WR-TIMEZONE:America/Sao_Paulo
BEGIN:VEVENT
SUMMARY:Reunião Introdutória Piloto PGD UFMG em [ Outros espacos Auditor
 io da Reitoria]
DTSTART;TZID=America/Sao_Paulo;VALUE=DATE-TIME:20240801T130000
DTEND;TZID=America/Sao_Paulo;VALUE=DATE-TIME:20240801T180000
DTSTAMP;VALUE=DATE-TIME:20260419T205703Z
UID:b15fdfe646fa4760a6de860fb3793201@150.164.76.86:8080
CREATED;VALUE=DATE-TIME:20240729T231452Z
DESCRIPTION:<p>Por solicitação da Professora Márcia\, Pró-Reitora de R
 ecursos Humanos\, solicitamos o agendamento do auditório da Reitoria no d
 ia 1º de agosto de 2024\, das 14h às 17h\, para a realização de uma re
 união com os gestores e servidores que integrarão o projeto piloto do Pr
 ograma de Gestão e Desempenho (PGD) na UFMG. Considerando que esta será 
 a reunião inaugural do projeto\, é de suma importância contar com uma e
 quipe de audiovisual para possibilitar a transmissão e gravação do even
 to. Agradecemos antecipadamente pela atenção e colaboração.</p>
LAST-MODIFIED;VALUE=DATE-TIME:20240730T125711Z
URL:http://150.164.76.86:8080/cac/agenda/11891699568340172740
END:VEVENT
BEGIN:VTIMEZONE
TZID:America/Sao_Paulo
X-LIC-LOCATION:America/Sao_Paulo
BEGIN:STANDARD
DTSTART;VALUE=DATE-TIME:20240217T230000
TZNAME:BRT
TZOFFSETFROM:-0200
TZOFFSETTO:-0300
END:STANDARD
END:VTIMEZONE
END:VCALENDAR
