BEGIN:VCALENDAR
VERSION:2.0
PRODID:-//Plone.org//NONSGML plone.app.event//EN
X-WR-TIMEZONE:America/Sao_Paulo
BEGIN:VEVENT
SUMMARY:PicadeRRÓ UFMG em [ Arena da praça de serviços]
DTSTART;TZID=America/Sao_Paulo;VALUE=DATE-TIME:20220608T173000
DTEND;TZID=America/Sao_Paulo;VALUE=DATE-TIME:20220608T190000
DTSTAMP;VALUE=DATE-TIME:20260422T064746Z
UID:03e86d1516014853a48698082382314d@150.164.76.86:8080
CREATED;VALUE=DATE-TIME:20220530T193813Z
DESCRIPTION:Equipamento próprio:\n1) caixa de som de baixa voltagem\;\n2)
  computador pessoal.\n\nProgramação:\n1) Entre 17h30 e 19h\, oferta de m
 úsica e dança\, ao estilo forró.\n2) Evento aberto à comunidade intern
 a e externa.\n3) Uso de máscara obrigatório.
LAST-MODIFIED;VALUE=DATE-TIME:20220531T153436Z
URL:http://150.164.76.86:8080/cac/agenda/11882539669593185336
END:VEVENT
BEGIN:VTIMEZONE
TZID:America/Sao_Paulo
X-LIC-LOCATION:America/Sao_Paulo
BEGIN:STANDARD
DTSTART;VALUE=DATE-TIME:20220219T230000
TZNAME:BRT
TZOFFSETFROM:-0200
TZOFFSETTO:-0300
END:STANDARD
END:VTIMEZONE
END:VCALENDAR
