BEGIN:VCALENDAR
VERSION:2.0
PRODID:-//Plone.org//NONSGML plone.app.event//EN
X-WR-TIMEZONE:America/Sao_Paulo
BEGIN:VEVENT
SUMMARY:Conselho de Ensino\, Pesquisa e Extensão (CEPE) reunião CEPE em 
 [ Outros espacos]
DTSTART;TZID=America/Sao_Paulo;VALUE=DATE-TIME:20221220T140000
DTEND;TZID=America/Sao_Paulo;VALUE=DATE-TIME:20221220T160000
DTSTAMP;VALUE=DATE-TIME:20260421T205342Z
UID:e99e72313d844c41862a5c1aa9505a65@150.164.76.86:8080
CREATED;VALUE=DATE-TIME:20221214T201525Z
DESCRIPTION:<p><span><span>A pedido da Coordenadora da SODS\, Consuelo Dou
 rado Dupin\,  solicito-lhe gentileza de autorizar funcionário(s) para op
 erar o equipamento multimídia da Sala das Sessões e para gravar em áudi
 o a reunião do <b>Conselho de Ensino\, Pesquisa e Extensão (CEPE)</b> 
 a ser realizada no dia </span><span><b>dia 20 de dezembro de 2022</b>\, 
 <b>terça-feira</b>\, a partir das<b> 14 (quatorze) horas</b></span><spa
 n>.</span></span></p>\n<div></div>\n<p><span><span> </span></span></p>
LAST-MODIFIED;VALUE=DATE-TIME:20221214T201615Z
URL:http://150.164.76.86:8080/cac/agenda/11852992368645983462
END:VEVENT
BEGIN:VTIMEZONE
TZID:America/Sao_Paulo
X-LIC-LOCATION:America/Sao_Paulo
BEGIN:DAYLIGHT
DTSTART;VALUE=DATE-TIME:20221016T010000
TZNAME:BRST
TZOFFSETFROM:-0300
TZOFFSETTO:-0200
END:DAYLIGHT
END:VTIMEZONE
END:VCALENDAR
