BEGIN:VCALENDAR
VERSION:2.0
PRODID:-//Plone.org//NONSGML plone.app.event//EN
X-WR-TIMEZONE:America/Sao_Paulo
BEGIN:VEVENT
SUMMARY:Apresentação final Equity Research Challenge interno - UFMG Fina
 nce Club em [ Auditório B101/102 do CAD 3]
DTSTART;TZID=America/Sao_Paulo;VALUE=DATE-TIME:20250124T190000
DTEND;TZID=America/Sao_Paulo;VALUE=DATE-TIME:20250124T230000
DTSTAMP;VALUE=DATE-TIME:20260419T151247Z
UID:428900ede9df4245bbf1eb2abe06c59f@150.164.76.86:8080
CREATED;VALUE=DATE-TIME:20250108T164801Z
DESCRIPTION:<p>O evento será a final do Challenge Interno de Equity Resea
 rch do UFMG Finance Club. Nesta etapa \, seis grupos apresentarão suas an
 álises e recomendações de investimento baseadas no valuation e nas tese
 s de investimento de empresas do setor de rentals no Brasil. O evento ter
 á início às 19h\, com uma apresentação de abertura conduzida pelos at
 uais presidentes do clube. A partir das 19h30\, cada grupo terá cerca de 
 25 minutos para apresentar sua análise e responder às perguntas da banca
  avaliadora. A banca será composta por membros e presidentes do UFMG Fina
 nce Club\, além de profissionais experientes do mercado financeiro\, repr
 esentando empresas de Belo Horizonte\, como Araújo Fontes\, Localiza\, Ve
 neto\, Imeri e Inter. Após as apresentações dos seis grupos\, será anu
 nciado o resultado do Challenge e a equipe vencedora. Este evento também 
 é a etapa final do processo seletivo para o projeto de extensão UFMG Fin
 ance Club\, consolidando a dedicação e o aprendizado dos participantes. 
 Para o evento\, serão utilizados os projetores para a exibição das apre
 sentações.</p>
LAST-MODIFIED;VALUE=DATE-TIME:20250109T140130Z
URL:http://150.164.76.86:8080/cac/agenda/11841359974700158473
END:VEVENT
BEGIN:VTIMEZONE
TZID:America/Sao_Paulo
X-LIC-LOCATION:America/Sao_Paulo
BEGIN:DAYLIGHT
DTSTART;VALUE=DATE-TIME:20241020T010000
TZNAME:BRST
TZOFFSETFROM:-0300
TZOFFSETTO:-0200
END:DAYLIGHT
END:VTIMEZONE
END:VCALENDAR
