BEGIN:VCALENDAR
VERSION:2.0
PRODID:-//Plone.org//NONSGML plone.app.event//EN
X-WR-TIMEZONE:America/Sao_Paulo
BEGIN:VEVENT
SUMMARY:Montagem da nova tenda em [ Entorno da Praca de Servicos Arena da 
 praça de serviços]
DTSTART;TZID=America/Sao_Paulo;VALUE=DATE-TIME:20230417T080000
DTEND;TZID=America/Sao_Paulo;VALUE=DATE-TIME:20230418T200000
DTSTAMP;VALUE=DATE-TIME:20260421T150849Z
UID:d6677fc2c48f470f8f29b5e260e080b9@150.164.76.86:8080
CREATED;VALUE=DATE-TIME:20230403T171007Z
DESCRIPTION:<p>Bloquei dos espaços\, para montagem da nova tenda.</p>
LAST-MODIFIED;VALUE=DATE-TIME:20230403T171033Z
URL:http://150.164.76.86:8080/cac/agenda/11837356658127716627
END:VEVENT
BEGIN:VTIMEZONE
TZID:America/Sao_Paulo
X-LIC-LOCATION:America/Sao_Paulo
BEGIN:STANDARD
DTSTART;VALUE=DATE-TIME:20230225T230000
TZNAME:BRT
TZOFFSETFROM:-0200
TZOFFSETTO:-0300
END:STANDARD
END:VTIMEZONE
END:VCALENDAR
