BEGIN:VCALENDAR
VERSION:2.0
PRODID:-//Plone.org//NONSGML plone.app.event//EN
X-WR-TIMEZONE:America/Sao_Paulo
BEGIN:VEVENT
SUMMARY:Bloqueio CAC para manutenção de espaços e equipamentos em [ Aud
 itorio da Reitoria Saguao da Reitoria Gramado da Reitoria Arena da praça 
 de serviços Entorno da Praca de Servicos Auditorio Nobre do CAD 1 Auditor
 io 1A do CAD 1 Auditorio 2A do CAD 1 Auditorio A102 do Cad 2 Auditorio A10
 4 do Cad 2 Auditório B101/102 do CAD 3 Auditório B106 do CAD3 Auditório
  B107 do CAD3 Auditório B301 do CAD 3 Auditório B302 do CAD 3 Auditório
  B306 do CAD3 Outros espacos]
DTSTART;TZID=America/Sao_Paulo;VALUE=DATE-TIME:20231211T060000
DTEND;TZID=America/Sao_Paulo;VALUE=DATE-TIME:20231211T070000
DTSTAMP;VALUE=DATE-TIME:20260420T115023Z
UID:99b79906a31c4f9f90ee47dfc59edd23@150.164.76.86:8080
CREATED;VALUE=DATE-TIME:20230823T190327Z
DESCRIPTION:<p>Manutenção de espaços e equipamentos</p>
LAST-MODIFIED;VALUE=DATE-TIME:20230823T190917Z
URL:http://150.164.76.86:8080/cac/agenda/11833051290649732235
END:VEVENT
BEGIN:VTIMEZONE
TZID:America/Sao_Paulo
X-LIC-LOCATION:America/Sao_Paulo
BEGIN:DAYLIGHT
DTSTART;VALUE=DATE-TIME:20231015T010000
TZNAME:BRST
TZOFFSETFROM:-0300
TZOFFSETTO:-0200
END:DAYLIGHT
END:VTIMEZONE
END:VCALENDAR
