BEGIN:VCALENDAR
VERSION:2.0
PRODID:-//Plone.org//NONSGML plone.app.event//EN
X-WR-TIMEZONE:America/Sao_Paulo
BEGIN:VEVENT
SUMMARY:II CICLO DE DEBATES COMFIC/COLLICEN DOS CURSOS DE GRADUAÇÃO EM L
 ICENCIATURA - DEBATE 8: A centralidade dos estágios na construção de um
 a política institucional de formação de professores da educação bási
 ca na UFMG em [ Auditorio Nobre do CAD 1]
DTSTART;TZID=America/Sao_Paulo;VALUE=DATE-TIME:20241101T160000
DTEND;TZID=America/Sao_Paulo;VALUE=DATE-TIME:20241101T220000
DTSTAMP;VALUE=DATE-TIME:20260419T163857Z
UID:ff1415f5a1f14a578041e50eda3749c6@150.164.76.86:8080
CREATED;VALUE=DATE-TIME:20241021T204548Z
DESCRIPTION:<p>Segue a programação do evento do dia 01/11: 16:30h às 18
 :30h – Os estágios obrigatórios nos cursos de licenciatura da UFMG: a 
 discussão de uma proposta institucional 19:00h às 22:00h - A centralidad
 e dos estágios na construção de uma política institucional de formaç
 ão de professores da educação básica na UFMG - Profa. Menga Ludke (PUC
 -RJ) </p>
LAST-MODIFIED;VALUE=DATE-TIME:20241022T173715Z
URL:http://150.164.76.86:8080/cac/agenda/1183163824561169806
END:VEVENT
BEGIN:VTIMEZONE
TZID:America/Sao_Paulo
X-LIC-LOCATION:America/Sao_Paulo
BEGIN:DAYLIGHT
DTSTART;VALUE=DATE-TIME:20241020T010000
TZNAME:BRST
TZOFFSETFROM:-0300
TZOFFSETTO:-0200
END:DAYLIGHT
END:VTIMEZONE
END:VCALENDAR
