BEGIN:VCALENDAR
VERSION:2.0
PRODID:-//Plone.org//NONSGML plone.app.event//EN
X-WR-TIMEZONE:America/Sao_Paulo
BEGIN:VEVENT
SUMMARY:Concurso Público de Professor Efetivo do Núcleo BÁSICO do Centr
 o Pedagógico-CP UFMG - 2025 em [ Auditorio A104 do Cad 2]
DTSTART;TZID=America/Sao_Paulo;VALUE=DATE-TIME:20250331T070000
DTEND;TZID=America/Sao_Paulo;VALUE=DATE-TIME:20250331T210000
DTSTAMP;VALUE=DATE-TIME:20260419T120423Z
UID:c8edff093fe641b4b1e0bad0311c0750@150.164.76.86:8080
CREATED;VALUE=DATE-TIME:20250221T220449Z
DESCRIPTION:A pedido da Professora Ruana Priscila da Silva Brito\, Vice-Di
 retora do Centro Pedagógico - CP/EBAP/UFMG\, solicito a verificação de 
 agendamento de reserva de um auditório\nno CAD2\, para realização de Co
 ncurso Público para Professores Efetivos do Centro Pedagógico - CP na á
 rea do conhecimento de Pedagogia (Núcleo Básico)\, \nconforme descrito a
 baixo. \n\nResponsáveis: Prof. Evaldo e Profª. Ruana - Diretoria do CP (
 dir@cp.ufmg.br) \ne Luciane Lelis - Secretaria Administrativa do CP (CP-Se
 cretaria <secrgeral@cp.ufmg.br>) - 3409.5185\n\n   1)	Período: dia 31/03/
 2025 - uso dos espaços o dia todo: 07:00 até 21:00 - Banca: 7 a 8 membro
 s. \n\n   2)	Auditório A104 CAD 2 (com 01 microfone\, projetor e notebook
 ): \n       - para Abertura do Concurso Público - de 07:30 às 11:00 hora
 s - instalação da Banca do Concurso\n       - e uso do auditório de 13:
 00 às 20:30 - para a aplicação da prova didática para os candidatos.
LAST-MODIFIED;VALUE=DATE-TIME:20250225T151935Z
URL:http://150.164.76.86:8080/cac/agenda/11825933742702950193
END:VEVENT
BEGIN:VTIMEZONE
TZID:America/Sao_Paulo
X-LIC-LOCATION:America/Sao_Paulo
BEGIN:STANDARD
DTSTART;VALUE=DATE-TIME:20250215T230000
TZNAME:BRT
TZOFFSETFROM:-0200
TZOFFSETTO:-0300
END:STANDARD
END:VTIMEZONE
END:VCALENDAR
