BEGIN:VCALENDAR
VERSION:2.0
PRODID:-//Plone.org//NONSGML plone.app.event//EN
X-WR-TIMEZONE:America/Sao_Paulo
BEGIN:VEVENT
SUMMARY:DESPEDIDA DE 05 ANOS em [ Auditorio Nobre do CAD 1]
DTSTART;TZID=America/Sao_Paulo;VALUE=DATE-TIME:20241213T180000
DTEND;TZID=America/Sao_Paulo;VALUE=DATE-TIME:20241213T213000
DTSTAMP;VALUE=DATE-TIME:20260419T163859Z
UID:97a469147220417c87102e21c1987538@150.164.76.86:8080
CREATED;VALUE=DATE-TIME:20240409T213013Z
DESCRIPTION:<p>Serviços dos operadores de som e microfone. Equipamentos n
 ecessários: microfone\, som e datashow.</p>
LAST-MODIFIED;VALUE=DATE-TIME:20240417T143939Z
URL:http://150.164.76.86:8080/cac/agenda/11825115317088203501
END:VEVENT
BEGIN:VTIMEZONE
TZID:America/Sao_Paulo
X-LIC-LOCATION:America/Sao_Paulo
BEGIN:DAYLIGHT
DTSTART;VALUE=DATE-TIME:20241020T010000
TZNAME:BRST
TZOFFSETFROM:-0300
TZOFFSETTO:-0200
END:DAYLIGHT
END:VTIMEZONE
END:VCALENDAR
