BEGIN:VCALENDAR
VERSION:2.0
PRODID:-//Plone.org//NONSGML plone.app.event//EN
X-WR-TIMEZONE:America/Sao_Paulo
BEGIN:VEVENT
SUMMARY:Programa UFMG de Formação Cidadã em defesa da democracia em [ A
 uditório B106 do CAD3]
DTSTART;TZID=America/Sao_Paulo;VALUE=DATE-TIME:20241105T140000
DTEND;TZID=America/Sao_Paulo;VALUE=DATE-TIME:20241105T160000
DTSTAMP;VALUE=DATE-TIME:20260419T180035Z
UID:98a695fd212f4684af74df5ca7145353@150.164.76.86:8080
CREATED;VALUE=DATE-TIME:20241016T143620Z
DESCRIPTION:Seminário do Programa UFMG de Formação Cidadã em defesa da
  democracia
LAST-MODIFIED;VALUE=DATE-TIME:20241029T144835Z
URL:http://150.164.76.86:8080/cac/agenda/11817027414190003785
END:VEVENT
BEGIN:VTIMEZONE
TZID:America/Sao_Paulo
X-LIC-LOCATION:America/Sao_Paulo
BEGIN:DAYLIGHT
DTSTART;VALUE=DATE-TIME:20241020T010000
TZNAME:BRST
TZOFFSETFROM:-0300
TZOFFSETTO:-0200
END:DAYLIGHT
END:VTIMEZONE
END:VCALENDAR
