BEGIN:VCALENDAR
VERSION:2.0
PRODID:-//Plone.org//NONSGML plone.app.event//EN
X-WR-TIMEZONE:America/Sao_Paulo
BEGIN:VEVENT
SUMMARY:Encontro de acolhimento com pais de alunos do Centro Pedagógico -
  CP 2024 em [ Auditorio A102 do Cad 2]
DTSTART;TZID=America/Sao_Paulo;VALUE=DATE-TIME:20240206T173000
DTEND;TZID=America/Sao_Paulo;VALUE=DATE-TIME:20240206T213000
DTSTAMP;VALUE=DATE-TIME:20260420T080745Z
UID:eaf9d4fa5dec4a5eb6e9613d2d12abb8@150.164.76.86:8080
CREATED;VALUE=DATE-TIME:20231221T144718Z
DESCRIPTION:Encontro com os pais de alunos e professores dos 1º Ciclo de 
 Formação Humana do Centro Pedagógico /CP - 2024. \n\nProgramação: \n1
 7:30 a 17:50 - organização do espaço do auditório\; \n17:50 até 18:00
  - Chegada dos pais/responsáveis pelos alunos formandos e dos professores
  do CP\;\n19:00 - Início da Atividade - Direção do CP\;\n21:00 - Encerr
 amento da Atividade no auditório.\n21:30 - Fechamento da dependências do
  CAD2 2\n\nEquipamentos necessários: \nMicrofone de mão sem fio 2 (para 
 a Mesa)\, \n1 Notebook para transmissão dos slides da Direção do CP\, \
 nProjetor multimídia VGA\, \nTela de projeção 218 polegadas\, \nSistema
  de som com caixas frontais. \nO operador da mesa de audiovisual e transmi
 ssão durante a atividade. \n\nResponsável pelo Evento: \nProfessora Tân
 ia Aretuza - Diretora do Centro Pedagógico - CP/EBAP/UFMG - dir@cp.ufmg.b
 r\nRaquel Dias - Secretária do Cenex CP -  34095175\n\n- Contato adiciona
 l: queldiasrp@gmail.com
LAST-MODIFIED;VALUE=DATE-TIME:20231226T134307Z
URL:http://150.164.76.86:8080/cac/agenda/11807775258032773717
END:VEVENT
BEGIN:VTIMEZONE
TZID:America/Sao_Paulo
X-LIC-LOCATION:America/Sao_Paulo
BEGIN:DAYLIGHT
DTSTART;VALUE=DATE-TIME:20231015T010000
TZNAME:BRST
TZOFFSETFROM:-0300
TZOFFSETTO:-0200
END:DAYLIGHT
END:VTIMEZONE
END:VCALENDAR
