BEGIN:VCALENDAR
VERSION:2.0
PRODID:-//Plone.org//NONSGML plone.app.event//EN
X-WR-TIMEZONE:America/Sao_Paulo
BEGIN:VEVENT
SUMMARY:Simpósio : Segurança do Paciente e Erros de Medicação  15 anos
  do ISMP Brasil em [ Auditorio Nobre do CAD 1]
DTSTART;TZID=America/Sao_Paulo;VALUE=DATE-TIME:20241125T070000
DTEND;TZID=America/Sao_Paulo;VALUE=DATE-TIME:20241126T210000
DTSTAMP;VALUE=DATE-TIME:20260419T175654Z
UID:99b1b31c273f4ecea1fcbe6127969737@150.164.76.86:8080
CREATED;VALUE=DATE-TIME:20240315T025500Z
DESCRIPTION:<p>A programação está em fase de elaboração contará com 
 conferência magna \, cerimônia de abertura \, mesas redondas \, palestra
 s durante os três dias do evento. Está prevista stands de instituições
  e empresas que desenvolvem ações em vinculadas a segurança do paciente
 </p>
LAST-MODIFIED;VALUE=DATE-TIME:20240918T200222Z
URL:http://150.164.76.86:8080/cac/agenda/11806589038595147952
END:VEVENT
BEGIN:VTIMEZONE
TZID:America/Sao_Paulo
X-LIC-LOCATION:America/Sao_Paulo
BEGIN:DAYLIGHT
DTSTART;VALUE=DATE-TIME:20241020T010000
TZNAME:BRST
TZOFFSETFROM:-0300
TZOFFSETTO:-0200
END:DAYLIGHT
END:VTIMEZONE
END:VCALENDAR
