BEGIN:VCALENDAR
VERSION:2.0
PRODID:-//Plone.org//NONSGML plone.app.event//EN
X-WR-TIMEZONE:America/Sao_Paulo
BEGIN:VEVENT
SUMMARY:VIII Curso de Verão em Bioinformática da UFMG (CVB24) em [ Outro
 s espacos Auditorio 2A do CAD 1]
DTSTART;TZID=America/Sao_Paulo;VALUE=DATE-TIME:20240708T080000
DTEND;TZID=America/Sao_Paulo;VALUE=DATE-TIME:20240712T183000
DTSTAMP;VALUE=DATE-TIME:20260419T234813Z
UID:fb8100188c8e4629bb2e8f547dd8b9dd@150.164.76.86:8080
CREATED;VALUE=DATE-TIME:20240312T125522Z
DESCRIPTION:<p>O Curso de Verão em Bioinformática da UFMG é um evento r
 ealizado anualmente desde 2017\, voltado a alunos de graduação e pós-gr
 aduação de todo o país\, que desejem estudar e aprofundar conhecimentos
  sobre a bioinformática. Com objetivo de contribuir para o fortalecimento
  da comunidade de bioinformatas no Brasil\, a expansão e a divulgação c
 ientífica na área\, a programação do curso abrange diversas palestras 
 com pesquisadores e profissionais da bioinformática\, além de mini-curso
 s. Para a realização do evento\, é necessário: - Auditório com capaci
 dade para cerca de 350 pessoas. - Microfones e caixas de som - Mesa e púl
 pito para palestrantes - Sistema de Projeção - Mesa de credenciamento - 
 Espaço para realização de coffee-break</p>
LAST-MODIFIED;VALUE=DATE-TIME:20240704T184338Z
URL:http://150.164.76.86:8080/cac/agenda/11793321738781782287
END:VEVENT
BEGIN:VTIMEZONE
TZID:America/Sao_Paulo
X-LIC-LOCATION:America/Sao_Paulo
BEGIN:STANDARD
DTSTART;VALUE=DATE-TIME:20240217T230000
TZNAME:BRT
TZOFFSETFROM:-0200
TZOFFSETTO:-0300
END:STANDARD
END:VTIMEZONE
END:VCALENDAR
