BEGIN:VCALENDAR
VERSION:2.0
PRODID:-//Plone.org//NONSGML plone.app.event//EN
X-WR-TIMEZONE:America/Sao_Paulo
BEGIN:VEVENT
SUMMARY:Palestra sobre Contratação de fundações de apoio em [ Auditori
 o da Reitoria]
DTSTART;TZID=America/Sao_Paulo;VALUE=DATE-TIME:20241204T140000
DTEND;TZID=America/Sao_Paulo;VALUE=DATE-TIME:20241204T170000
DTSTAMP;VALUE=DATE-TIME:20260419T163401Z
UID:42b6f39a784d4106a61bd49b1ed1406c@150.164.76.86:8080
CREATED;VALUE=DATE-TIME:20241129T181715Z
DESCRIPTION:<p>Reserva para chefia de gabinete da Reitora</p>
LAST-MODIFIED;VALUE=DATE-TIME:20241203T211110Z
URL:http://150.164.76.86:8080/cac/agenda/1178810029253263425
END:VEVENT
BEGIN:VTIMEZONE
TZID:America/Sao_Paulo
X-LIC-LOCATION:America/Sao_Paulo
BEGIN:DAYLIGHT
DTSTART;VALUE=DATE-TIME:20241020T010000
TZNAME:BRST
TZOFFSETFROM:-0300
TZOFFSETTO:-0200
END:DAYLIGHT
END:VTIMEZONE
END:VCALENDAR
