BEGIN:VCALENDAR
VERSION:2.0
PRODID:-//Plone.org//NONSGML plone.app.event//EN
X-WR-TIMEZONE:America/Sao_Paulo
BEGIN:VEVENT
SUMMARY:Encerramento do INOVALAB em [ Auditório B106 do CAD3]
DTSTART;TZID=America/Sao_Paulo;VALUE=DATE-TIME:20240830T120000
DTEND;TZID=America/Sao_Paulo;VALUE=DATE-TIME:20240830T190000
DTSTAMP;VALUE=DATE-TIME:20260419T222740Z
UID:50777c04811e4ffeb115a172bf223b9d@150.164.76.86:8080
CREATED;VALUE=DATE-TIME:20240723T185637Z
DESCRIPTION:* Celebrar as conquistas das 10 equipes e empresas pré-incuba
 das e futuras incubadas\, destacando os resultados alcançados durante o p
 rograma. Esse encontro visa fortalecer a interação entre a CTIT\, INOVA\
 , parceiros institucionais e a rede de apoio\, promovendo o compartilhamen
 to de experiências e conhecimentos adquiridos. Além disso\, o evento pro
 porcionará um espaço para a comunidade empreendedora da UFMG conhecer os
  projetos desenvolvidos e as oportunidades futuras.\n\n* Programação:\n1
 3h30 - 14h00: Credenciamento\n14h00- 14h45: Momento institucional CTIT e R
 eitoria / Autoridades e Painelistas convidados\n14h50 - Pitch dos Pré Inc
 ubados (10 Equipes InovaLab)\n17h25: Resultado Fase 2\n17:35 - Encerrament
 o/Despedidas\n18:00 - Coffee/Coquetel (Cantina/anexoCAD3)\n\n* \nInfraestr
 utura: \n1)Quantidade de Pessoas: ~ 70 pessoas\;\n2) Mesas e cadeiras \n  
   - Credenciamento: 1 mesa e 2 cadeiras (tipo digitador) forro opcional\; 
 \n    - Palco: 1 mesa (+forro preto) e 4 cadeiras (diretoria CTIT e autori
 dades)\n3) Técnico em áudio e vídeo (CAC/Reitoria) Som e Projeção (se
 m transmissão on line a principio)\n- 2 microfones p/ palco\;\n- 1 microf
 one público\; \n- Entrada audiovisual para notebook/Mac e/ou outros\n- Wi
 -Fi para compartilhamento durante evento\n- Passador eletrônico de tela\n
 4) Staff’s: Credenciamento\, Auxílio ao Palco e Coffee (INOVA/CTIT)\;\n
 5) Cantina para CoffeeBreak (anexo ao CAD3): 1 mesa grande para salgados e
  1 mesa menor para bebidas (+forro desejável) Coffee/Coquetel (INOVA/CTIT
 )\nOBS: Quando iniciar o coffee-break poderá dispensar o técnico audiovi
 sual. Pois será um momento para confraternização e network no hall entr
 e os participantes sem retorno ao auditório.\n6) Bebedouros\n7) Banheiros
LAST-MODIFIED;VALUE=DATE-TIME:20240723T193402Z
URL:http://150.164.76.86:8080/cac/agenda/11787474736510370248
END:VEVENT
BEGIN:VTIMEZONE
TZID:America/Sao_Paulo
X-LIC-LOCATION:America/Sao_Paulo
BEGIN:STANDARD
DTSTART;VALUE=DATE-TIME:20240217T230000
TZNAME:BRT
TZOFFSETFROM:-0200
TZOFFSETTO:-0300
END:STANDARD
END:VTIMEZONE
END:VCALENDAR
