BEGIN:VCALENDAR
VERSION:2.0
PRODID:-//Plone.org//NONSGML plone.app.event//EN
X-WR-TIMEZONE:America/Sao_Paulo
BEGIN:VEVENT
SUMMARY:Recepção de novos docentes em [ Auditorio da Reitoria]
DTSTART;TZID=America/Sao_Paulo;VALUE=DATE-TIME:20241002T140000
DTEND;TZID=America/Sao_Paulo;VALUE=DATE-TIME:20241002T170000
DTSTAMP;VALUE=DATE-TIME:20260419T175928Z
UID:3143af61c2394d479722138f3fb43b7c@150.164.76.86:8080
CREATED;VALUE=DATE-TIME:20240805T173333Z
DESCRIPTION:<p><span>Recepção dos novos docentes com participação da R
 eitora e pró-reitores de graduação\, extensão\, pesquisa\, pós-gradua
 ção e recursos humanos.</span></p>
LAST-MODIFIED;VALUE=DATE-TIME:20240827T151747Z
URL:http://150.164.76.86:8080/cac/agenda/11777370571238939597
END:VEVENT
BEGIN:VTIMEZONE
TZID:America/Sao_Paulo
X-LIC-LOCATION:America/Sao_Paulo
BEGIN:STANDARD
DTSTART;VALUE=DATE-TIME:20240217T230000
TZNAME:BRT
TZOFFSETFROM:-0200
TZOFFSETTO:-0300
END:STANDARD
END:VTIMEZONE
END:VCALENDAR
