BEGIN:VCALENDAR
VERSION:2.0
PRODID:-//Plone.org//NONSGML plone.app.event//EN
X-WR-TIMEZONE:America/Sao_Paulo
BEGIN:VEVENT
SUMMARY:Tenda VIVER UFMG em [ Em torno da Praca de Servicos Arena da praç
 a de serviços]
DTSTART;TZID=America/Sao_Paulo;VALUE=DATE-TIME:20220328T080000
DTEND;TZID=America/Sao_Paulo;VALUE=DATE-TIME:20220429T170000
DTSTAMP;VALUE=DATE-TIME:20260422T081431Z
UID:e4c83c130a9644d8b57c4d8e73af9749@150.164.76.86:8080
CREATED;VALUE=DATE-TIME:20220321T174647Z
DESCRIPTION:<p>Recepção de Calouros na Tenda Viver UFMG na Praça de Ser
 viços</p>
LAST-MODIFIED;VALUE=DATE-TIME:20220322T201351Z
URL:http://150.164.76.86:8080/cac/agenda/11774659919359014579
END:VEVENT
BEGIN:VTIMEZONE
TZID:America/Sao_Paulo
X-LIC-LOCATION:America/Sao_Paulo
BEGIN:STANDARD
DTSTART;VALUE=DATE-TIME:20220219T230000
TZNAME:BRT
TZOFFSETFROM:-0200
TZOFFSETTO:-0300
END:STANDARD
END:VTIMEZONE
END:VCALENDAR
